BEGIN:VCALENDAR
PRODID:-//eluceo/ical//2.0/EN
VERSION:2.0
CALSCALE:GREGORIAN
BEGIN:VEVENT
UID:2e4d6e1745e56a479c8def49234585b2
DTSTAMP:20260424T081640Z
SUMMARY:Blood Drive | Temple Beth Israel of Pomona
DESCRIPTION:Jewish Federation of the Greater San Gabriel & Pomona Valleys\n
 COMMUNITY CALENDAR\nhttps://jewishsgpv.org/calendar/blood-drive-temple-bet
 h-israel-of-pomona\n\n
DTSTART;TZID=America/Los_Angeles:20251217T090000
DTEND;TZID=America/Los_Angeles:20251217T150000
END:VEVENT
END:VCALENDAR
