BEGIN:VCALENDAR
PRODID:-//eluceo/ical//2.0/EN
VERSION:2.0
CALSCALE:GREGORIAN
BEGIN:VEVENT
UID:5741e3c0b8257c75540bad9c295a6a85
DTSTAMP:20260422T121406Z
SUMMARY:Beth Shalom of Whittier celebrates Purim
DESCRIPTION:Jewish Federation of the Greater San Gabriel & Pomona Valleys\n
 COMMUNITY CALENDAR\nhttps://jewishsgpv.org/calendar/beth-shalom-of-whittie
 r-celebrates-purim\n\n
DTSTART;TZID=America/Los_Angeles:20210225T190000
DTEND;TZID=America/Los_Angeles:20210225T200000
END:VEVENT
END:VCALENDAR
