BEGIN:VCALENDAR
PRODID:-//eluceo/ical//2.0/EN
VERSION:2.0
CALSCALE:GREGORIAN
BEGIN:VEVENT
UID:67f148910f0b28ea705d8f554e9ef28b
DTSTAMP:20260426T034519Z
SUMMARY:Bagel Babies
DESCRIPTION:Jewish Federation of the Greater San Gabriel & Pomona Valleys\n
 COMMUNITY CALENDAR\nhttps://jewishsgpv.org/calendar/bagelsandbabies\n\n
DTSTART;TZID=America/Los_Angeles:20230730T103000
DTEND;TZID=America/Los_Angeles:20230730T120000
END:VEVENT
END:VCALENDAR
