BEGIN:VCALENDAR
PRODID:-//eluceo/ical//2.0/EN
VERSION:2.0
CALSCALE:GREGORIAN
BEGIN:VEVENT
UID:614b43d2c71029d8a1a7397b81a8374e
DTSTAMP:20260422T135129Z
SUMMARY:Bagel Babies
DESCRIPTION:Jewish Federation of the Greater San Gabriel & Pomona Valleys\n
 COMMUNITY CALENDAR\nhttps://jewishsgpv.org/calendar/bagelbabieschabad\n\n
DTSTART;TZID=America/Los_Angeles:20230813T103000
DTEND;TZID=America/Los_Angeles:20230813T113000
END:VEVENT
END:VCALENDAR
