BEGIN:VCALENDAR
PRODID:-//eluceo/ical//2.0/EN
VERSION:2.0
CALSCALE:GREGORIAN
BEGIN:VEVENT
UID:98f976548b837490a0e638c45a6a98f6
DTSTAMP:20260420T092623Z
SUMMARY:Bagel Breakfast - Senior Scam Awareness with Renee Rose
DESCRIPTION:Jewish Federation of the Greater San Gabriel & Pomona Valleys\n
 COMMUNITY CALENDAR\nhttps://jewishsgpv.org/calendar/bagel-breakfast-senior
 -scam-awareness-with-renee-rose\n\n
DTSTART;TZID=America/Los_Angeles:20251207T093000
DTEND;TZID=America/Los_Angeles:20251207T123000
END:VEVENT
END:VCALENDAR
