BEGIN:VCALENDAR
PRODID:-//eluceo/ical//2.0/EN
VERSION:2.0
CALSCALE:GREGORIAN
BEGIN:VEVENT
UID:0808fcafa5b7361522414f8c211d474d
DTSTAMP:20260420T125105Z
SUMMARY:Bagel Babies
DESCRIPTION:Jewish Federation of the Greater San Gabriel & Pomona Valleys\n
 COMMUNITY CALENDAR\nhttps://jewishsgpv.org/calendar/bagel-babies-inland-em
 pire-chabad\n\n
DTSTART;TZID=America/Los_Angeles:20240505T103000
DTEND;TZID=America/Los_Angeles:20240505T113000
END:VEVENT
END:VCALENDAR
