BEGIN:VCALENDAR
PRODID:-//eluceo/ical//2.0/EN
VERSION:2.0
CALSCALE:GREGORIAN
BEGIN:VEVENT
UID:46569630fb0f2a77fe3d3d4afb74310d
DTSTAMP:20260423T200556Z
SUMMARY:Bagel Babies
DESCRIPTION:Jewish Federation of the Greater San Gabriel & Pomona Valleys\n
 COMMUNITY CALENDAR\nhttps://jewishsgpv.org/calendar/bagel-babies-chabad-of
 -the-inland-empire\n\n
DTSTART;TZID=America/Los_Angeles:20240303T103000
DTEND;TZID=America/Los_Angeles:20240303T113000
END:VEVENT
END:VCALENDAR
