BEGIN:VCALENDAR
PRODID:-//eluceo/ical//2.0/EN
VERSION:2.0
CALSCALE:GREGORIAN
BEGIN:VEVENT
UID:2ba1748cee7478696cc61ffa017b3fdb
DTSTAMP:20260424T160438Z
SUMMARY:Bagel Babies at Chabad of the Inland Empire
DESCRIPTION:Jewish Federation of the Greater San Gabriel & Pomona Valleys\n
 COMMUNITY CALENDAR\nhttps://jewishsgpv.org/calendar/bagel-babies-chabad-of
 -ie\n\n
DTSTART;TZID=America/Los_Angeles:20250112T100000
DTEND;TZID=America/Los_Angeles:20250112T110000
END:VEVENT
END:VCALENDAR
