BEGIN:VCALENDAR
PRODID:-//eluceo/ical//2.0/EN
VERSION:2.0
CALSCALE:GREGORIAN
BEGIN:VEVENT
UID:162ca403564872a01ac5c9ec12fcbafe
DTSTAMP:20260419T204959Z
SUMMARY:Bagel Babies
DESCRIPTION:Jewish Federation of the Greater San Gabriel & Pomona Valleys\n
 COMMUNITY CALENDAR\nhttps://jewishsgpv.org/calendar/bagel-babies\n\n
DTSTART;TZID=America/Los_Angeles:20230716T103000
DTEND;TZID=America/Los_Angeles:20230716T113000
END:VEVENT
END:VCALENDAR
