BEGIN:VCALENDAR
PRODID:-//eluceo/ical//2.0/EN
VERSION:2.0
CALSCALE:GREGORIAN
BEGIN:VEVENT
UID:ee540930f3dce146e57eb4e35b78cfbb
DTSTAMP:20260425T013809Z
SUMMARY:AUDITIONS: The Wisdom of Eve
DESCRIPTION:Jewish Federation of the Greater San Gabriel & Pomona Valleys\n
 COMMUNITY CALENDAR\nhttps://jewishsgpv.org/calendar/auditions-the-wisdom-o
 f-eve-sunday\n\n
DTSTART;TZID=America/Los_Angeles:20240707T140000
DTEND;TZID=America/Los_Angeles:20240707T160000
END:VEVENT
END:VCALENDAR
