BEGIN:VCALENDAR
PRODID:-//eluceo/ical//2.0/EN
VERSION:2.0
CALSCALE:GREGORIAN
BEGIN:VEVENT
UID:9bf788bc4e9b4d41a2b33aa5f7aef2ef
DTSTAMP:20260424T162417Z
SUMMARY:Auditions: Grumpy Old Men
DESCRIPTION:Jewish Federation of the Greater San Gabriel & Pomona Valleys\n
 COMMUNITY CALENDAR\nhttps://jewishsgpv.org/calendar/auditions-grumpy-old-m
 en\n\nAuditions for the Jewish Federation's JFed Players’ Spring 2022 pr
 oduction Grumpy Old Men\, book by Dan Remmes\, Music by Neil Berg\, Lyrics
  by Nick Meglin\, directed by Cantor Judy Sofer\, will be held on December
  13\, 14\, and 15\, 2021. The production opens March 26\, 2022\, at Portic
 os Art Space in Pasadena and runs through April 3 (or 10)\, 2022. Performa
 nces: Saturdays\, Sundays\, Thursdays.\n\nProof of vaccination is required
  to audition.\n\n\n\n\n\nGRUMPY OLD MEN is the story of two agi...
DTSTART;TZID=America/Los_Angeles:20211213T190000
DTEND;TZID=America/Los_Angeles:20211213T210000
END:VEVENT
END:VCALENDAR
