BEGIN:VCALENDAR
PRODID:-//eluceo/ical//2.0/EN
VERSION:2.0
CALSCALE:GREGORIAN
BEGIN:VEVENT
UID:25e689f14cbbe0ae58f83cf67eff8a0c
DTSTAMP:20260421T100223Z
SUMMARY:AUDITIONS: Fiddler on the Roof
DESCRIPTION:Jewish Federation of the Greater San Gabriel & Pomona Valleys\n
 COMMUNITY CALENDAR\nhttps://jewishsgpv.org/calendar/auditions-fiddler-on-t
 he-roof-sunday\n\nANNOUNCING AUDITIONS for the JFed Players Spring Musical
 \n\nFIDDLER ON THE ROOF\n\nMusic and Lyrics by Jerry Bock and Sheldon Harn
 ick\, Book by Jerry Stein\n\nSunday\, January 7\, 2024\, 2:00-5:00 pm\n\nM
 onday\, January 8\, 2024\, 6:30-9:00 pm\n\nTuesday\, January 9\, 2024\, 6:
 30-9:00 pm\n\nThursday\, January 11\, 2024\, 6:30-9:00 pm\n\nAuditions are
  held at the office of the\n\n Jewish Federation of the San Gabriel and P
 omona Valleys\n\n114A W. Lime Ave.\, Monrovia\, CA 91016\n\nSides will be 
 provided...
DTSTART;TZID=America/Los_Angeles:20240107T140000
DTEND;TZID=America/Los_Angeles:20240107T170000
END:VEVENT
END:VCALENDAR
