BEGIN:VCALENDAR
PRODID:-//eluceo/ical//2.0/EN
VERSION:2.0
CALSCALE:GREGORIAN
BEGIN:VEVENT
UID:05cda6043b93c43333381dbd6f2ee316
DTSTAMP:20260422T111935Z
SUMMARY:AUDITIONS: Fiddler on the Roof
DESCRIPTION:Jewish Federation of the Greater San Gabriel & Pomona Valleys\n
 COMMUNITY CALENDAR\nhttps://jewishsgpv.org/calendar/auditions-fiddler-on-t
 he-roof\n\nANNOUNCING AUDITIONS for the Jewish Federation of the Greater S
 an Gabriel and Pomona Valley's\n\nJFed Players Spring Musical\n\nFIDDLER O
 N THE ROOF\n\n \n\nMusic and Lyrics by Jerry Bock and Sheldon Harnick\, B
 ook by Jerry Stein\n\nSunday\, January 7\, 2024\, 2:00-5:00 pm\n\nMonday\,
  January 8\, 2024\, 6:30-9:00 pm\n\nTuesday\, January 9\, 2024\, 6:30-9:00
  pm\n\nThursday\, January 11\, 2024\, 6:30-9:00 pm\n\nAuditions are held a
 t the office of the\n\n Jewish Federation of the San Gabriel and Pomona .
 ..
DTSTART;TZID=America/Los_Angeles:20240108T183000
DTEND;TZID=America/Los_Angeles:20240108T210000
END:VEVENT
END:VCALENDAR
