BEGIN:VCALENDAR
PRODID:-//eluceo/ical//2.0/EN
VERSION:2.0
CALSCALE:GREGORIAN
BEGIN:VEVENT
UID:0ddb8d415cf9f972ad773780a0f04cc1
DTSTAMP:20260421T051153Z
SUMMARY:Auditions: A Little Piece of Heaven
DESCRIPTION:Jewish Federation of the Greater San Gabriel & Pomona Valleys\n
 COMMUNITY CALENDAR\nhttps://jewishsgpv.org/calendar/auditions-a-little-pie
 ce-of-heaven\n\nThe Jewish Federation’s JFed Players Community Theatre E
 nsemble is pleased to announce auditions for the Fall Production: A Little
  Piece of Heaven By Matthew Carlin\n\n \n\nA Little Piece of Heaven is a 
 heart-warming story focusing on restless biker Mike\, who forges an unlike
 ly relationship while working in a quirky antiques and bric-a-brac shop ca
 lled\, “A Little Piece of Heaven\,” in a small town. He finds a friend
  in the elderly\, no-nonsense Lily\, although their relationship certainly
 ...
DTSTART;TZID=America/Los_Angeles:20220706T190000
DTEND;TZID=America/Los_Angeles:20220706T210000
END:VEVENT
END:VCALENDAR
