BEGIN:VCALENDAR
PRODID:-//eluceo/ical//2.0/EN
VERSION:2.0
CALSCALE:GREGORIAN
BEGIN:VEVENT
UID:4fe1e8c688f80c6b2573f0f6d4d21f42
DTSTAMP:20260421T015537Z
SUMMARY:An evening honoring  Congresswoman Judy Chu
DESCRIPTION:Jewish Federation of the Greater San Gabriel & Pomona Valleys\n
 COMMUNITY CALENDAR\nhttps://jewishsgpv.org/calendar/an-evening-honoring-co
 ngresswoman\n\n
DTSTART;TZID=America/Los_Angeles:20230806T190000
DTEND;TZID=America/Los_Angeles:20230806T210000
END:VEVENT
END:VCALENDAR
