BEGIN:VCALENDAR
PRODID:-//eluceo/ical//2.0/EN
VERSION:2.0
CALSCALE:GREGORIAN
BEGIN:VEVENT
UID:162d45d525e2b88983d6ce9f6ba19ce8
DTSTAMP:20260421T051325Z
SUMMARY:A special Shabbat Morning Choral Service - Beth Shalom of Whittier
DESCRIPTION:Jewish Federation of the Greater San Gabriel & Pomona Valleys\n
 COMMUNITY CALENDAR\nhttps://jewishsgpv.org/calendar/a-special-shabbat-morn
 ing-choral-service-beth-shalom-of-whittier\n\nBETH SHALOM OF WHITTIER KRIS
 TALLNACHT OBSERVANCE 2022\n\nBeth Shalom of Whittier is excited to announc
 e and host a special choral Saturday Morning Service that will take place 
 on November 12\, 2022 coinciding with Kristallnacht remembrances around th
 e world.  This will be an important event for the entire Jewish community
  of the san Gabriel Valley as we have partnered with the Pestalozzistrasse
  Synagogue in Berlin for this special service of remembrance.  The clergy
  there--Rabbi Jonah Siever...
DTSTART;TZID=America/Los_Angeles:20221112T092500
DTEND;TZID=America/Los_Angeles:20221112T120000
END:VEVENT
END:VCALENDAR
