BEGIN:VCALENDAR
PRODID:-//eluceo/ical//2.0/EN
VERSION:2.0
CALSCALE:GREGORIAN
BEGIN:VEVENT
UID:0e540812476eb60a24a0cb10dc526717
DTSTAMP:20260424T072208Z
SUMMARY:A Rockin' Bright 4th Night | A Hanukkah family concert with Jason M
 esches
DESCRIPTION:Jewish Federation of the Greater San Gabriel & Pomona Valleys\n
 COMMUNITY CALENDAR\nhttps://jewishsgpv.org/calendar/a-rockin-bright-4th-ni
 ght-a-hanukkah-family-concert-with-jason-mesches\n\n
DTSTART;TZID=America/Los_Angeles:20211201T170000
DTEND;TZID=America/Los_Angeles:20211201T180000
END:VEVENT
END:VCALENDAR
