BEGIN:VCALENDAR
PRODID:-//eluceo/ical//2.0/EN
VERSION:2.0
CALSCALE:GREGORIAN
BEGIN:VEVENT
UID:8d6b83ff0a17efb3d2a26fe54a4537fd
DTSTAMP:20260420T202444Z
SUMMARY:A Little Piece of Heaven
DESCRIPTION:Jewish Federation of the Greater San Gabriel & Pomona Valleys\n
 COMMUNITY CALENDAR\nhttps://jewishsgpv.org/calendar/a-little-piece-of-heav
 en-weekdays\n\nThe Jewish Federation’s JFed Players present:\n\nA Little
  Piece of Heaven\n\nBy Matthew Carlin\n\n \n\n \n\nA Little Piece of Hea
 ven is a heart-warming story focusing on restless biker Mike\, who forges
  an unlikely relationship while working in a quirky antiques and bric-a-br
 ac shop called\, “A Little Piece of Heaven\,” in a small town. He find
 s a friend in the elderly\, no-nonsense Lily\, although their relationship
  certainly doesn’t start out that way. But there’s something odd ...
DTSTART;TZID=America/Los_Angeles:20220914T193000
DTEND;TZID=America/Los_Angeles:20220914T213000
END:VEVENT
END:VCALENDAR
