BEGIN:VCALENDAR
PRODID:-//eluceo/ical//2.0/EN
VERSION:2.0
CALSCALE:GREGORIAN
BEGIN:VEVENT
UID:81fad9016bea9792ca4afc1074e7da5f
DTSTAMP:20260426T030439Z
SUMMARY:A Little Piece of Heaven
DESCRIPTION:Jewish Federation of the Greater San Gabriel & Pomona Valleys\n
 COMMUNITY CALENDAR\nhttps://jewishsgpv.org/calendar/a-little-piece-of-heav
 en\n\nThe Jewish Federation’s JFed Players present:\n\nA Little Piece of
  Heaven\n\nBy Matthew Carlin\n\n \n\n \n\nA Little Piece of Heaven is a 
 heart-warming story focusing on restless biker Mike\, who forges an unlike
 ly relationship while working in a quirky antiques and bric-a-brac shop ca
 lled\, “A Little Piece of Heaven\,” in a small town. He finds a friend
  in the elderly\, no-nonsense Lily\, although their relationship certainly
  doesn’t start out that way. But there’s something odd a...
DTSTART;TZID=America/Los_Angeles:20220910T200000
DTEND;TZID=America/Los_Angeles:20220910T220000
END:VEVENT
END:VCALENDAR
