BEGIN:VCALENDAR
PRODID:-//eluceo/ical//2.0/EN
VERSION:2.0
CALSCALE:GREGORIAN
BEGIN:VEVENT
UID:b0cd97738a348eb592cf1b2b1d83a01c
DTSTAMP:20260423T041031Z
SUMMARY:The JFed Players Present: The Wisdom of Eve
DESCRIPTION:Jewish Federation of the Greater San Gabriel & Pomona Valleys\n
 COMMUNITY CALENDAR\nhttps://jewishsgpv.org/calendar/The-Wisdom-of-Eve-mati
 nee\n\nhe Jewish Federation’s JFed Players Community Theater Ensemble is
  proud to present: The Wisdom of Eve\n\n \n\nThe Wisdom of Eve is a grip
 ping tale of ambition\, jealousy\, and fame in New York's theater world. I
 t follows the story of Eve Harrington\, an unscrupulous ingenue determined
  to rise to Broadway stardom.\n\nAs secrets are revealed and loyalties tes
 ted\, the lines between admiration and obsession blur\, leading to a shock
 ing climax.\n\n \n\n\n\n 
DTSTART;TZID=America/Los_Angeles:20240929T153000
DTEND;TZID=America/Los_Angeles:20240929T173000
END:VEVENT
END:VCALENDAR
