BEGIN:VCALENDAR
PRODID:-//eluceo/ical//2.0/EN
VERSION:2.0
CALSCALE:GREGORIAN
BEGIN:VEVENT
UID:418253d8372f3dec39575a07672e0e1e
DTSTAMP:20260425T143317Z
SUMMARY:The JFed Players Present: The Wisdom of Eve
DESCRIPTION:Jewish Federation of the Greater San Gabriel & Pomona Valleys\n
 COMMUNITY CALENDAR\nhttps://jewishsgpv.org/calendar/The-Wisdom-of-Eve\n\nT
 he Jewish Federation’s JFed Players Community Theater Ensemble is proud 
 to present: The Wisdom of Eve\n\n \n\nThe Wisdom of Eve is a gripping ta
 le of ambition\, jealousy\, and fame in New York's theater world. It follo
 ws the story of Eve Harrington\, an unscrupulous ingenue determined to ris
 e to Broadway stardom.\n\nAs secrets are revealed and loyalties tested\, t
 he lines between admiration and obsession blur\, leading to a shocking cli
 max.\n\n \n\n \n\n\n\n\n\n 
DTSTART;TZID=America/Los_Angeles:20240921T193000
DTEND;TZID=America/Los_Angeles:20240921T213000
END:VEVENT
END:VCALENDAR
