BEGIN:VCALENDAR
PRODID:-//eluceo/ical//2.0/EN
VERSION:2.0
CALSCALE:GREGORIAN
BEGIN:VEVENT
UID:beadbfa904136618a4eecd9bbf573320
DTSTAMP:20260424T204532Z
SUMMARY:Kiddush Lunch in the Sukkah
DESCRIPTION:Jewish Federation of the Greater San Gabriel & Pomona Valleys\n
 COMMUNITY CALENDAR\nhttps://jewishsgpv.org/calendar/Sukkah_Kiddish_Lunch\n
 \n
DTSTART;TZID=America/Los_Angeles:20230930T100000
DTEND;TZID=America/Los_Angeles:20230930T120000
END:VEVENT
END:VCALENDAR
