BEGIN:VCALENDAR
PRODID:-//eluceo/ical//2.0/EN
VERSION:2.0
CALSCALE:GREGORIAN
BEGIN:VEVENT
UID:5bff09e54a5a5b14c4379a4afebd72ff
DTSTAMP:20260424T034536Z
SUMMARY:Passover Community Seder
DESCRIPTION:Jewish Federation of the Greater San Gabriel & Pomona Valleys\n
 COMMUNITY CALENDAR\nhttps://jewishsgpv.org/calendar/Passover-Seder\n\n
DTSTART;TZID=America/Los_Angeles:20230405T193000
DTEND;TZID=America/Los_Angeles:20230405T220000
END:VEVENT
END:VCALENDAR
