BEGIN:VCALENDAR
PRODID:-//eluceo/ical//2.0/EN
VERSION:2.0
CALSCALE:GREGORIAN
BEGIN:VEVENT
UID:aeeafaf01707d21b0cd3a314a647334c
DTSTAMP:20260419T142947Z
SUMMARY:Community Passover Seder
DESCRIPTION:Jewish Federation of the Greater San Gabriel & Pomona Valleys\n
 COMMUNITY CALENDAR\nhttps://jewishsgpv.org/calendar/Friday-Passover-Dinner
 \n\n
DTSTART;TZID=America/Los_Angeles:20250418T183000
DTEND;TZID=America/Los_Angeles:20250418T213000
END:VEVENT
END:VCALENDAR
