BEGIN:VCALENDAR
PRODID:-//eluceo/ical//2.0/EN
VERSION:2.0
CALSCALE:GREGORIAN
BEGIN:VEVENT
UID:94a6475b4f5265726fdcd19ef6d57638
DTSTAMP:20260426T033711Z
SUMMARY:Lunch and Learn at Beth Shalom of Whittier
DESCRIPTION:Jewish Federation of the Greater San Gabriel & Pomona Valleys\n
 COMMUNITY CALENDAR\nhttps://jewishsgpv.org/calendar/December-21-lunch-and-
 learn\n\nJoin Hazzan Lance H Tapper\, Hon DMus\, Spiritual Leader\, and th
 e renowned world famous Jewish Organist and Choir Master\, Aryell Cohen in
  a tour of the Jewish prayer chants (Nusah) for the entire year.  Lunch w
 ill be served at 12:00 pm followed by the teaching session.  Please make 
 a reservation as noted on our flyer attached.  The due date for reservati
 on is December 13!
DTSTART;TZID=America/Los_Angeles:20241221T120000
DTEND;TZID=America/Los_Angeles:20241221T140000
END:VEVENT
END:VCALENDAR
