BEGIN:VCALENDAR
PRODID:-//eluceo/ical//2.0/EN
VERSION:2.0
CALSCALE:GREGORIAN
BEGIN:VEVENT
UID:45d2760e9ebbc6f33ab41a845520f0c7
DTSTAMP:20260422T055120Z
SUMMARY:Tu B'shvat Hike
DESCRIPTION:Jewish Federation of the Greater San Gabriel & Pomona Valleys\n
 COMMUNITY CALENDAR\nhttps://jewishsgpv.org/calendar/Chabad-tu-bshvat-hike\
 n\n
DTSTART;TZID=America/Los_Angeles:20230205T100000
DTEND;TZID=America/Los_Angeles:20230205T120000
END:VEVENT
END:VCALENDAR
