BEGIN:VCALENDAR
PRODID:-//eluceo/ical//2.0/EN
VERSION:2.0
CALSCALE:GREGORIAN
BEGIN:VEVENT
UID:5cda2790c524788c8b16b9aeaf79eded
DTSTAMP:20260422T141612Z
SUMMARY:31st Annual Meeting
DESCRIPTION:Jewish Federation of the Greater San Gabriel & Pomona Valleys\n
 COMMUNITY CALENDAR\nhttps://jewishsgpv.org/calendar/31st-annual-meeting\n\
 nThe Jewish Federation of the Greater San Gabriel and Pomona Valleys will 
 be holding its 31st Annual Meeting on Sunday\, January 11\, 2026 at 10:00 
 a.m. at Temple Beth David (9677 E. Longden Avenue\, Temple City). The Jewi
 sh Federation is honored to have Danny Feldman\, Producing Artistic Direct
 or of the Pasadena Playhouse\, as its Keynote Speaker at the event.  He w
 ill be in conversation with Executive Director Jason Moss about the state 
 of the American theater and how Pasadena Playhouse is b...
DTSTART;TZID=America/Los_Angeles:20260111T100000
DTEND;TZID=America/Los_Angeles:20260111T120000
END:VEVENT
END:VCALENDAR
