BEGIN:VCALENDAR
PRODID:-//eluceo/ical//2.0/EN
VERSION:2.0
CALSCALE:GREGORIAN
BEGIN:VEVENT
UID:630c5aa504f6726a71f87f5ef82b1cfe
DTSTAMP:20260424T071111Z
SUMMARY:27th Annual Jewish Book Festival presents: Alka Joshi
DESCRIPTION:Jewish Federation of the Greater San Gabriel & Pomona Valleys\n
 COMMUNITY CALENDAR\nhttps://jewishsgpv.org/calendar/27th-annual-jewish-boo
 k-festival-presents-Alka-Joshi\n\nSUNDAY\, NOVEMBER 16 | 4:00 P.M. | TEMPL
 E AMI SHALOM | DESSERT RECEPTION\n\nAlka Joshi\nSix Days in Bombay\nA Nove
 l\n\nInspired by the life of painter Amrita Sher-Gil\, Six Days in Bombay 
 opens in 1937\, in the hospital where Jewish Indian painter Mira Novak is 
 recovering from a miscarriage. Novak dies under suspicious circumstances a
 fter giving her nurse Sona three paintings and a cryptic note begging her 
 to deliver them to Mira’s former lovers in Europe\, where anti-fascist r
 esistance mirrors...
DTSTART;TZID=America/Los_Angeles:20251116T160000
DTEND;TZID=America/Los_Angeles:20251116T180000
END:VEVENT
END:VCALENDAR
