BEGIN:VCALENDAR
PRODID:-//eluceo/ical//2.0/EN
VERSION:2.0
CALSCALE:GREGORIAN
BEGIN:VEVENT
UID:c8ba45f22db4ee196155c78bb717fd07
DTSTAMP:20260423T134826Z
SUMMARY:2022 Israel Trip
DESCRIPTION:Jewish Federation of the Greater San Gabriel & Pomona Valleys\n
 COMMUNITY CALENDAR\nhttps://jewishsgpv.org/calendar/2022-israel-trip\n\n
DTSTART;TZID=America/Los_Angeles:20220518T000000
DTEND;TZID=America/Los_Angeles:20220531T235959
END:VEVENT
END:VCALENDAR
