BEGIN:VCALENDAR
PRODID:-//eluceo/ical//2.0/EN
VERSION:2.0
CALSCALE:GREGORIAN
BEGIN:VEVENT
UID:acf7232725b616a848248da2fc867965
DTSTAMP:20260423T190314Z
SUMMARY:2020 Jewish Book Festival presents: LaNitra Berger
DESCRIPTION:Jewish Federation of the Greater San Gabriel & Pomona Valleys\n
 COMMUNITY CALENDAR\nhttps://jewishsgpv.org/calendar/2020-jewish-book-festi
 val-presents-lanitra-berger\n\nClick here to RSVP
DTSTART;TZID=America/Los_Angeles:20201215T190000
DTEND;TZID=America/Los_Angeles:20201215T203000
END:VEVENT
END:VCALENDAR
