BEGIN:VCALENDAR
PRODID:-//eluceo/ical//2.0/EN
VERSION:2.0
CALSCALE:GREGORIAN
BEGIN:VEVENT
UID:976e7cfd9797f2b0b6a71c919ebad9a3
DTSTAMP:20260420T151756Z
SUMMARY:2020 Jewish Book Festival presents: Jennifer Steinhauer
DESCRIPTION:Jewish Federation of the Greater San Gabriel & Pomona Valleys\n
 COMMUNITY CALENDAR\nhttps://jewishsgpv.org/calendar/2020-jewish-book-festi
 val-presents-jeniffer-steinhauer\n\nClick here to RSVP
DTSTART;TZID=America/Los_Angeles:20201110T190000
DTEND;TZID=America/Los_Angeles:20201110T203000
END:VEVENT
END:VCALENDAR
