BEGIN:VCALENDAR
PRODID:-//eluceo/ical//2.0/EN
VERSION:2.0
CALSCALE:GREGORIAN
BEGIN:VEVENT
UID:70120b23bbb9906f588ad8209127bb14
DTSTAMP:20260423T190334Z
SUMMARY:2020 Jewish Book Festival presents: Erica Perl
DESCRIPTION:Jewish Federation of the Greater San Gabriel & Pomona Valleys\n
 COMMUNITY CALENDAR\nhttps://jewishsgpv.org/calendar/2020-jewish-book-festi
 val-presents-erica-perl\n\nClick here to RSVP
DTSTART;TZID=America/Los_Angeles:20201213T160000
DTEND;TZID=America/Los_Angeles:20201213T173000
END:VEVENT
END:VCALENDAR
