BEGIN:VCALENDAR
PRODID:-//eluceo/ical//2.0/EN
VERSION:2.0
CALSCALE:GREGORIAN
BEGIN:VEVENT
UID:3f25f6c8afe2d9c0f9c47215c78210d8
DTSTAMP:20260425T125504Z
SUMMARY:2020 Jewish Book Festival presents: Andrew Blauner
DESCRIPTION:Jewish Federation of the Greater San Gabriel & Pomona Valleys\n
 COMMUNITY CALENDAR\nhttps://jewishsgpv.org/calendar/2020-jewish-book-festi
 val-presents-andrew-blauner\n\nClick here to RSVP
DTSTART;TZID=America/Los_Angeles:20201201T190000
DTEND;TZID=America/Los_Angeles:20201201T203000
END:VEVENT
END:VCALENDAR
