BEGIN:VCALENDAR
PRODID:-//eluceo/ical//2.0/EN
VERSION:2.0
CALSCALE:GREGORIAN
BEGIN:VEVENT
UID:21adbc94a9e59cd5ae83cb9e4e05070d
DTSTAMP:20260423T113051Z
SUMMARY:2020 Jewish Book Festival presents: Jonathan Kaufman
DESCRIPTION:Jewish Federation of the Greater San Gabriel & Pomona Valleys\n
 COMMUNITY CALENDAR\nhttps://jewishsgpv.org/calendar/2020-jewish-book-festi
 val-jonathan-kaufman\n\nClick here to RSVP
DTSTART;TZID=America/Los_Angeles:20201208T190000
DTEND;TZID=America/Los_Angeles:20201208T203000
END:VEVENT
END:VCALENDAR
