BEGIN:VCALENDAR
PRODID:-//eluceo/ical//2.0/EN
VERSION:2.0
CALSCALE:GREGORIAN
BEGIN:VEVENT
UID:efeb7172fd29c072803286b0cc7f1618
DTSTAMP:20260420T224346Z
SUMMARY:2020 Jewish Book Festival presents: Bess Kalb
DESCRIPTION:Jewish Federation of the Greater San Gabriel & Pomona Valleys\n
 COMMUNITY CALENDAR\nhttps://jewishsgpv.org/calendar/2020-jewish-book-festi
 val-Bess-Kalb\n\nIMPORTANT EVENT INFORMATION: \n\nRegistration for this e
 vent closed on Friday\, October 30 at noon. \n\nIf you registered for this
  event you should've received an email with the Zoom login information.\nT
 he email was sent on 10/30/2020 around 10:40 am. If you have any trouble a
 ccessing the webinar or did not receive the email with the Zoom login info
 rmation send an email to kbanaji@jewishsgpv.org\n 
DTSTART;TZID=America/Los_Angeles:20201101T190000
DTEND;TZID=America/Los_Angeles:20201101T203000
END:VEVENT
END:VCALENDAR
