BEGIN:VCALENDAR
PRODID:-//eluceo/ical//2.0/EN
VERSION:2.0
CALSCALE:GREGORIAN
BEGIN:VEVENT
UID:517aad90991d32e4f6d8c61f3d11c424
DTSTAMP:20260420T132417Z
SUMMARY:2 PM: A Global Celebration on Israel’s Independence Day
DESCRIPTION:Jewish Federation of the Greater San Gabriel & Pomona Valleys\n
 COMMUNITY CALENDAR\nhttps://jewishsgpv.org/calendar/2-pm-a-global-celebrat
 ion-on-israels-independence-day\n\nIt’s not every year that we get to ce
 lebrate Yom Ha’atzmaut as one global people\, together\, in the same pla
 ce! This year\, we can. We’ll be programming an hour long celebration fo
 r you and your community to take part in. Stay tuned for celebrity announc
 ements and other programs being planned throughout the day. For now\, mark
  your calendar!\n\n \n\nClick here for more info
DTSTART;TZID=America/Los_Angeles:20200429T140000
DTEND;TZID=America/Los_Angeles:20200429T150000
END:VEVENT
END:VCALENDAR
