BEGIN:VCALENDAR
PRODID:-//eluceo/ical//2.0/EN
VERSION:2.0
CALSCALE:GREGORIAN
BEGIN:VEVENT
UID:4622edbe07c249d549620e4a2e3c0893
DTSTAMP:20260423T191903Z
SUMMARY:15th Annual Festival of Jewish Music
DESCRIPTION:Jewish Federation of the Greater San Gabriel & Pomona Valleys\n
 COMMUNITY CALENDAR\nhttps://jewishsgpv.org/calendar/15th-annual-festival-o
 f-jewish-music\n\n \n\n \n\n 
DTSTART;TZID=America/Los_Angeles:20221211T150000
DTEND;TZID=America/Los_Angeles:20221211T170000
END:VEVENT
END:VCALENDAR
