BEGIN:VCALENDAR
PRODID:-//eluceo/ical//2.0/EN
VERSION:2.0
CALSCALE:GREGORIAN
BEGIN:VEVENT
UID:8e0240e4debdb86ca80608ee88fb05fc
DTSTAMP:20260422T123905Z
SUMMARY:13th Annual Festival of Jewish Music
DESCRIPTION:Jewish Federation of the Greater San Gabriel & Pomona Valleys\n
 COMMUNITY CALENDAR\nhttps://jewishsgpv.org/calendar/13th-annual-festival-o
 f-jewish-music\n\nClick here to register
DTSTART;TZID=America/Los_Angeles:20201206T150000
DTEND;TZID=America/Los_Angeles:20201206T163000
END:VEVENT
END:VCALENDAR
